BEGIN:VCALENDAR
VERSION:2.0
PRODID:-//Association des Petites Graines Lauragaises à Caraman - ECPv6.15.20//NONSGML v1.0//EN
CALSCALE:GREGORIAN
METHOD:PUBLISH
X-WR-CALNAME:Association des Petites Graines Lauragaises à Caraman
X-ORIGINAL-URL:http://www.petitesgraines31.fr
X-WR-CALDESC:Évènements pour Association des Petites Graines Lauragaises à Caraman
REFRESH-INTERVAL;VALUE=DURATION:PT1H
X-Robots-Tag:noindex
X-PUBLISHED-TTL:PT1H
BEGIN:VTIMEZONE
TZID:Europe/Paris
BEGIN:DAYLIGHT
TZOFFSETFROM:+0100
TZOFFSETTO:+0200
TZNAME:CEST
DTSTART:20250330T010000
END:DAYLIGHT
BEGIN:STANDARD
TZOFFSETFROM:+0200
TZOFFSETTO:+0100
TZNAME:CET
DTSTART:20251026T010000
END:STANDARD
BEGIN:DAYLIGHT
TZOFFSETFROM:+0100
TZOFFSETTO:+0200
TZNAME:CEST
DTSTART:20260329T010000
END:DAYLIGHT
BEGIN:STANDARD
TZOFFSETFROM:+0200
TZOFFSETTO:+0100
TZNAME:CET
DTSTART:20261025T010000
END:STANDARD
BEGIN:DAYLIGHT
TZOFFSETFROM:+0100
TZOFFSETTO:+0200
TZNAME:CEST
DTSTART:20270328T010000
END:DAYLIGHT
BEGIN:STANDARD
TZOFFSETFROM:+0200
TZOFFSETTO:+0100
TZNAME:CET
DTSTART:20271031T010000
END:STANDARD
END:VTIMEZONE
BEGIN:VEVENT
DTSTART;TZID=Europe/Paris:20260420T100000
DTEND;TZID=Europe/Paris:20260422T160000
DTSTAMP:20260420T013149
CREATED:20260320T110326Z
LAST-MODIFIED:20260415T153945Z
UID:10005614-1776679200-1776873600@www.petitesgraines31.fr
SUMMARY:Stage création d'un podcast
DESCRIPTION:✨ Apprendre à réaliser un podcast ✨\nPendant trois jours\, viens découvrir l’univers de l’enregistrement sonore. En petit collectif\, nous réaliserons notre propre podcast et choisirons les sujets que l’on souhaite mettre en avant ! Il y a un thème qui te tient à cœur ? Viens le faire découvrir ! \nAu programme : Jeux d’expression orale\, découverte des outils de notre voix\, enregistrements et découverte du fonctionnement d’un micro et petit aperçu du montage sonore.\nNous inviterons les proches et les curieux-ses à venir écouter la création finale le mercredi en fin de journée.\nPour y participer il faut : ta bonne humeur et t’inscrire auprès de la Casita. (Attention\, les places sont limitées…)\n \n\nAnimé par Lucie Calas\, conteuse et créatrice sonore\nÉducatrice spécialisée et réalisatrice de podcasts\, elle intervient auprès de différents public pour diffuser les voix de celles et ceux que l’on entend peu. Elle anime des ateliers\, des stages et voyage également dans plusieurs pays pour récolter des parcours de vies. Elle considère la voix comme une partie intime de l’identité. Ainsi\, chaque voix est unique et transmet nos expressions et émotions. Également conteuse\, elle raconte dans différents lieux et contextes\, de la scène de festival\, au coin de salon chez l’habitant.\n\n  \n🌟 Restitution le 25 🌟 \nÂge recommandé : entre 12 et 17 ans  \nPorter son pique-nique chaque jour. \n8 places max. \n\ndu lundi 20 au mercredi 22 avril \n10h-16h  \n165€
URL:http://www.petitesgraines31.fr/agenda/stagepodcast/
LOCATION:La Casita\, 27 Cr Alsace Lorraine\, Caraman\, 31460\, France
CATEGORIES:Bien vivre ensemble,Culture,parentalité
ATTACH;FMTTYPE=image/jpeg:http://www.petitesgraines31.fr/wp-content/uploads/2026/03/1000017005.jpg
END:VEVENT
END:VCALENDAR