BEGIN:VCALENDAR
VERSION:2.0
PRODID:-//Association des Petites Graines Lauragaises à Caraman - ECPv6.15.20//NONSGML v1.0//EN
CALSCALE:GREGORIAN
METHOD:PUBLISH
X-WR-CALNAME:Association des Petites Graines Lauragaises à Caraman
X-ORIGINAL-URL:http://www.petitesgraines31.fr
X-WR-CALDESC:Évènements pour Association des Petites Graines Lauragaises à Caraman
REFRESH-INTERVAL;VALUE=DURATION:PT1H
X-Robots-Tag:noindex
X-PUBLISHED-TTL:PT1H
BEGIN:VTIMEZONE
TZID:Europe/Paris
BEGIN:DAYLIGHT
TZOFFSETFROM:+0100
TZOFFSETTO:+0200
TZNAME:CEST
DTSTART:20250330T010000
END:DAYLIGHT
BEGIN:STANDARD
TZOFFSETFROM:+0200
TZOFFSETTO:+0100
TZNAME:CET
DTSTART:20251026T010000
END:STANDARD
BEGIN:DAYLIGHT
TZOFFSETFROM:+0100
TZOFFSETTO:+0200
TZNAME:CEST
DTSTART:20260329T010000
END:DAYLIGHT
BEGIN:STANDARD
TZOFFSETFROM:+0200
TZOFFSETTO:+0100
TZNAME:CET
DTSTART:20261025T010000
END:STANDARD
BEGIN:DAYLIGHT
TZOFFSETFROM:+0100
TZOFFSETTO:+0200
TZNAME:CEST
DTSTART:20270328T010000
END:DAYLIGHT
BEGIN:STANDARD
TZOFFSETFROM:+0200
TZOFFSETTO:+0100
TZNAME:CET
DTSTART:20271031T010000
END:STANDARD
END:VTIMEZONE
BEGIN:VEVENT
DTSTART;TZID=Europe/Paris:20260423T090000
DTEND;TZID=Europe/Paris:20260423T170000
DTSTAMP:20260423T013857
CREATED:20250814T092005Z
LAST-MODIFIED:20260210T164912Z
UID:10005508-1776934800-1776963600@www.petitesgraines31.fr
SUMMARY:Inclusion numérique
DESCRIPTION:1 jeudi par mois environ\,  de 9h à 17h\, Sandrine\, conseillère numérique de l’association Le Siloscope\, te reçoit\, sur rendez-vous\, pour t’aider à être plus autonome et à mieux profiter des avantages du numérique : boîte mail\, web\, base traitement de texte\, paramétrage smartphone…\nPrise de rendez-vous directement auprès de Sandrine au 06 60 27 70 56 ou par mail sur contact@siloscope.org\n \n  \n\n\n\n\n\n 
URL:http://www.petitesgraines31.fr/agenda/inclusion-numerique-15/2026-04-23/
CATEGORIES:Bien vivre ensemble
ATTACH;FMTTYPE=image/jpeg:http://www.petitesgraines31.fr/wp-content/uploads/2025/01/flyer-conseiller-numerique-600x800-1-e1736520202563.jpg
END:VEVENT
BEGIN:VEVENT
DTSTART;TZID=Europe/Paris:20260423T103000
DTEND;TZID=Europe/Paris:20260423T113000
DTSTAMP:20260423T013857
CREATED:20260319T150433Z
LAST-MODIFIED:20260422T150112Z
UID:10005607-1776940200-1776943800@www.petitesgraines31.fr
SUMMARY:Sophro parent-enfant
DESCRIPTION:adulte/enfant de 6 à 10 ans \nCet atelier sera ciblé sur les thématiques : « Mieux respirer ensemble »– Apprendre à respirer\, se reposer et retrouver le calme.– 3 jeux ludiques parent-enfant pour se découvrir et apprendre à mieux se connaître dans une communication bienveillante. \nLa Sophrologie est une méthode de relaxation physique et mentale accessible à toute.s. Elle repose sur des exercices simples basés sur la respiration\, la détente\, la pensée positive et la visualisation. Elle permet de prendre conscience de soi\, de se libérer des tensions corporelles et émotionnelles pour ainsi\, activer toutes les ressources déjà présentes en nous. \nAnimé par Florence Cartasso : www.florencecartasso.com \nInfos pratiques\n23 avril \n10h30-11h30 \n9€ par binôme \nNombre de places limité à 5 binômes\, pensez à réserver !
URL:http://www.petitesgraines31.fr/agenda/sophro-parent-enf/
CATEGORIES:Culture
ATTACH;FMTTYPE=image/png:http://www.petitesgraines31.fr/wp-content/uploads/2025/11/Sophro.png
END:VEVENT
END:VCALENDAR