BEGIN:VCALENDAR
VERSION:2.0
PRODID:-//Association des Petites Graines Lauragaises à Caraman - ECPv6.15.20//NONSGML v1.0//EN
CALSCALE:GREGORIAN
METHOD:PUBLISH
X-WR-CALNAME:Association des Petites Graines Lauragaises à Caraman
X-ORIGINAL-URL:http://www.petitesgraines31.fr
X-WR-CALDESC:Évènements pour Association des Petites Graines Lauragaises à Caraman
REFRESH-INTERVAL;VALUE=DURATION:PT1H
X-Robots-Tag:noindex
X-PUBLISHED-TTL:PT1H
BEGIN:VTIMEZONE
TZID:Europe/Paris
BEGIN:DAYLIGHT
TZOFFSETFROM:+0100
TZOFFSETTO:+0200
TZNAME:CEST
DTSTART:20270328T010000
END:DAYLIGHT
BEGIN:STANDARD
TZOFFSETFROM:+0200
TZOFFSETTO:+0100
TZNAME:CET
DTSTART:20271031T010000
END:STANDARD
BEGIN:DAYLIGHT
TZOFFSETFROM:+0100
TZOFFSETTO:+0200
TZNAME:CEST
DTSTART:20280326T010000
END:DAYLIGHT
BEGIN:STANDARD
TZOFFSETFROM:+0200
TZOFFSETTO:+0100
TZNAME:CET
DTSTART:20281029T010000
END:STANDARD
BEGIN:DAYLIGHT
TZOFFSETFROM:+0100
TZOFFSETTO:+0200
TZNAME:CEST
DTSTART:20290325T010000
END:DAYLIGHT
BEGIN:STANDARD
TZOFFSETFROM:+0200
TZOFFSETTO:+0100
TZNAME:CET
DTSTART:20291028T010000
END:STANDARD
END:VTIMEZONE
BEGIN:VEVENT
DTSTART;TZID=Europe/Paris:20280101T090000
DTEND;TZID=Europe/Paris:20280101T100000
DTSTAMP:20260419T150004
CREATED:20251120T145139Z
LAST-MODIFIED:20260217T145317Z
UID:10005247-1830330000-1830333600@www.petitesgraines31.fr
SUMMARY:Conversation en anglais
DESCRIPTION:Adulte \nCours de d’anglais\nAnimé par Gaëlle Darricau\, enseignante en langues étrangères. \nCet atelier s’adresse aux personnes qui ont besoin de pratiquer l’anglais à l’oral car elles doivent le parler dans le cadre de leur travail\, mais également aux personnes qui préparent un voyage à l’étranger par exemple. \nles samedis \n9h-10h \n10€ \nInscription auprès de Darricau Gaëlle – 06 78 21 50 93 \n  \n  \n  \n 
URL:http://www.petitesgraines31.fr/agenda/conversation-en-anglais/2028-01-01/
CATEGORIES:Bien vivre ensemble,Culture
ATTACH;FMTTYPE=image/jpeg:http://www.petitesgraines31.fr/wp-content/uploads/2025/11/7571012-scaled-e1763650288260.jpg
END:VEVENT
BEGIN:VEVENT
DTSTART;TZID=Europe/Paris:20280101T103000
DTEND;TZID=Europe/Paris:20280101T114500
DTSTAMP:20260419T150004
CREATED:20250506T130701Z
LAST-MODIFIED:20251211T144843Z
UID:10001003-1830335400-1830339900@www.petitesgraines31.fr
SUMMARY:FLE - Français Langues Etrangères
DESCRIPTION:Tout public allophone \nCours de Français Langues Étrangères\nAnimé par Gaëlle\, enseignante en FLE. \nPour apprendre ou perfectionner son français. \nles samedis matin \n10h30-11h45 \n7€ \nJe m’inscris \n  \n  \n  \n 
URL:http://www.petitesgraines31.fr/agenda/fle-francais-langues-etrangeres-8/2028-01-01/
CATEGORIES:Bien vivre ensemble,Culture
ATTACH;FMTTYPE=image/jpeg:http://www.petitesgraines31.fr/wp-content/uploads/2025/03/FLE.jpg
END:VEVENT
BEGIN:VEVENT
DTSTART;TZID=Europe/Paris:20280108T090000
DTEND;TZID=Europe/Paris:20280108T100000
DTSTAMP:20260419T150004
CREATED:20251120T145139Z
LAST-MODIFIED:20260217T145317Z
UID:10005248-1830934800-1830938400@www.petitesgraines31.fr
SUMMARY:Conversation en anglais
DESCRIPTION:Adulte \nCours de d’anglais\nAnimé par Gaëlle Darricau\, enseignante en langues étrangères. \nCet atelier s’adresse aux personnes qui ont besoin de pratiquer l’anglais à l’oral car elles doivent le parler dans le cadre de leur travail\, mais également aux personnes qui préparent un voyage à l’étranger par exemple. \nles samedis \n9h-10h \n10€ \nInscription auprès de Darricau Gaëlle – 06 78 21 50 93 \n  \n  \n  \n 
URL:http://www.petitesgraines31.fr/agenda/conversation-en-anglais/2028-01-08/
CATEGORIES:Bien vivre ensemble,Culture
ATTACH;FMTTYPE=image/jpeg:http://www.petitesgraines31.fr/wp-content/uploads/2025/11/7571012-scaled-e1763650288260.jpg
END:VEVENT
BEGIN:VEVENT
DTSTART;TZID=Europe/Paris:20280108T103000
DTEND;TZID=Europe/Paris:20280108T114500
DTSTAMP:20260419T150004
CREATED:20250506T130701Z
LAST-MODIFIED:20251211T144843Z
UID:10001004-1830940200-1830944700@www.petitesgraines31.fr
SUMMARY:FLE - Français Langues Etrangères
DESCRIPTION:Tout public allophone \nCours de Français Langues Étrangères\nAnimé par Gaëlle\, enseignante en FLE. \nPour apprendre ou perfectionner son français. \nles samedis matin \n10h30-11h45 \n7€ \nJe m’inscris \n  \n  \n  \n 
URL:http://www.petitesgraines31.fr/agenda/fle-francais-langues-etrangeres-8/2028-01-08/
CATEGORIES:Bien vivre ensemble,Culture
ATTACH;FMTTYPE=image/jpeg:http://www.petitesgraines31.fr/wp-content/uploads/2025/03/FLE.jpg
END:VEVENT
BEGIN:VEVENT
DTSTART;TZID=Europe/Paris:20280114T140000
DTEND;TZID=Europe/Paris:20280114T160000
DTSTAMP:20260419T150004
CREATED:20250627T131056Z
LAST-MODIFIED:20251112T141913Z
UID:10001215-1831471200-1831478400@www.petitesgraines31.fr
SUMMARY:Tricot papote
DESCRIPTION:Tout public  \nUn moment convivial pour tricoter en papotant\, ou pour apprendre à tricoter\, animé par Anne. \nAtelier tous niveaux\, débutant·es bien venu·es ! \nchaque deuxième vendredi du mois\, hors vacances scolaires. \n14h-16h \ngratuit \nSur inscription \n  \n 
URL:http://www.petitesgraines31.fr/agenda/tricot-papote-10/2028-01-14/
CATEGORIES:Bien vivre ensemble,Culture
ATTACH;FMTTYPE=image/jpeg:http://www.petitesgraines31.fr/wp-content/uploads/2024/05/tricot.jpeg
END:VEVENT
BEGIN:VEVENT
DTSTART;TZID=Europe/Paris:20280115T090000
DTEND;TZID=Europe/Paris:20280115T100000
DTSTAMP:20260419T150004
CREATED:20251120T145139Z
LAST-MODIFIED:20260217T145317Z
UID:10005249-1831539600-1831543200@www.petitesgraines31.fr
SUMMARY:Conversation en anglais
DESCRIPTION:Adulte \nCours de d’anglais\nAnimé par Gaëlle Darricau\, enseignante en langues étrangères. \nCet atelier s’adresse aux personnes qui ont besoin de pratiquer l’anglais à l’oral car elles doivent le parler dans le cadre de leur travail\, mais également aux personnes qui préparent un voyage à l’étranger par exemple. \nles samedis \n9h-10h \n10€ \nInscription auprès de Darricau Gaëlle – 06 78 21 50 93 \n  \n  \n  \n 
URL:http://www.petitesgraines31.fr/agenda/conversation-en-anglais/2028-01-15/
CATEGORIES:Bien vivre ensemble,Culture
ATTACH;FMTTYPE=image/jpeg:http://www.petitesgraines31.fr/wp-content/uploads/2025/11/7571012-scaled-e1763650288260.jpg
END:VEVENT
BEGIN:VEVENT
DTSTART;TZID=Europe/Paris:20280115T103000
DTEND;TZID=Europe/Paris:20280115T114500
DTSTAMP:20260419T150004
CREATED:20250506T130701Z
LAST-MODIFIED:20251211T144843Z
UID:10001005-1831545000-1831549500@www.petitesgraines31.fr
SUMMARY:FLE - Français Langues Etrangères
DESCRIPTION:Tout public allophone \nCours de Français Langues Étrangères\nAnimé par Gaëlle\, enseignante en FLE. \nPour apprendre ou perfectionner son français. \nles samedis matin \n10h30-11h45 \n7€ \nJe m’inscris \n  \n  \n  \n 
URL:http://www.petitesgraines31.fr/agenda/fle-francais-langues-etrangeres-8/2028-01-15/
CATEGORIES:Bien vivre ensemble,Culture
ATTACH;FMTTYPE=image/jpeg:http://www.petitesgraines31.fr/wp-content/uploads/2025/03/FLE.jpg
END:VEVENT
BEGIN:VEVENT
DTSTART;TZID=Europe/Paris:20280122T090000
DTEND;TZID=Europe/Paris:20280122T100000
DTSTAMP:20260419T150004
CREATED:20251120T145139Z
LAST-MODIFIED:20260217T145317Z
UID:10005250-1832144400-1832148000@www.petitesgraines31.fr
SUMMARY:Conversation en anglais
DESCRIPTION:Adulte \nCours de d’anglais\nAnimé par Gaëlle Darricau\, enseignante en langues étrangères. \nCet atelier s’adresse aux personnes qui ont besoin de pratiquer l’anglais à l’oral car elles doivent le parler dans le cadre de leur travail\, mais également aux personnes qui préparent un voyage à l’étranger par exemple. \nles samedis \n9h-10h \n10€ \nInscription auprès de Darricau Gaëlle – 06 78 21 50 93 \n  \n  \n  \n 
URL:http://www.petitesgraines31.fr/agenda/conversation-en-anglais/2028-01-22/
CATEGORIES:Bien vivre ensemble,Culture
ATTACH;FMTTYPE=image/jpeg:http://www.petitesgraines31.fr/wp-content/uploads/2025/11/7571012-scaled-e1763650288260.jpg
END:VEVENT
BEGIN:VEVENT
DTSTART;TZID=Europe/Paris:20280122T103000
DTEND;TZID=Europe/Paris:20280122T114500
DTSTAMP:20260419T150004
CREATED:20250506T130701Z
LAST-MODIFIED:20251211T144843Z
UID:10001006-1832149800-1832154300@www.petitesgraines31.fr
SUMMARY:FLE - Français Langues Etrangères
DESCRIPTION:Tout public allophone \nCours de Français Langues Étrangères\nAnimé par Gaëlle\, enseignante en FLE. \nPour apprendre ou perfectionner son français. \nles samedis matin \n10h30-11h45 \n7€ \nJe m’inscris \n  \n  \n  \n 
URL:http://www.petitesgraines31.fr/agenda/fle-francais-langues-etrangeres-8/2028-01-22/
CATEGORIES:Bien vivre ensemble,Culture
ATTACH;FMTTYPE=image/jpeg:http://www.petitesgraines31.fr/wp-content/uploads/2025/03/FLE.jpg
END:VEVENT
BEGIN:VEVENT
DTSTART;TZID=Europe/Paris:20280129T090000
DTEND;TZID=Europe/Paris:20280129T100000
DTSTAMP:20260419T150004
CREATED:20251120T145139Z
LAST-MODIFIED:20260217T145317Z
UID:10005251-1832749200-1832752800@www.petitesgraines31.fr
SUMMARY:Conversation en anglais
DESCRIPTION:Adulte \nCours de d’anglais\nAnimé par Gaëlle Darricau\, enseignante en langues étrangères. \nCet atelier s’adresse aux personnes qui ont besoin de pratiquer l’anglais à l’oral car elles doivent le parler dans le cadre de leur travail\, mais également aux personnes qui préparent un voyage à l’étranger par exemple. \nles samedis \n9h-10h \n10€ \nInscription auprès de Darricau Gaëlle – 06 78 21 50 93 \n  \n  \n  \n 
URL:http://www.petitesgraines31.fr/agenda/conversation-en-anglais/2028-01-29/
CATEGORIES:Bien vivre ensemble,Culture
ATTACH;FMTTYPE=image/jpeg:http://www.petitesgraines31.fr/wp-content/uploads/2025/11/7571012-scaled-e1763650288260.jpg
END:VEVENT
BEGIN:VEVENT
DTSTART;TZID=Europe/Paris:20280129T103000
DTEND;TZID=Europe/Paris:20280129T114500
DTSTAMP:20260419T150004
CREATED:20250506T130701Z
LAST-MODIFIED:20251211T144843Z
UID:10001007-1832754600-1832759100@www.petitesgraines31.fr
SUMMARY:FLE - Français Langues Etrangères
DESCRIPTION:Tout public allophone \nCours de Français Langues Étrangères\nAnimé par Gaëlle\, enseignante en FLE. \nPour apprendre ou perfectionner son français. \nles samedis matin \n10h30-11h45 \n7€ \nJe m’inscris \n  \n  \n  \n 
URL:http://www.petitesgraines31.fr/agenda/fle-francais-langues-etrangeres-8/2028-01-29/
CATEGORIES:Bien vivre ensemble,Culture
ATTACH;FMTTYPE=image/jpeg:http://www.petitesgraines31.fr/wp-content/uploads/2025/03/FLE.jpg
END:VEVENT
END:VCALENDAR