BEGIN:VCALENDAR
VERSION:2.0
PRODID:-//Association des Petites Graines Lauragaises à Caraman - ECPv6.15.20//NONSGML v1.0//EN
CALSCALE:GREGORIAN
METHOD:PUBLISH
X-WR-CALNAME:Association des Petites Graines Lauragaises à Caraman
X-ORIGINAL-URL:http://www.petitesgraines31.fr
X-WR-CALDESC:Évènements pour Association des Petites Graines Lauragaises à Caraman
REFRESH-INTERVAL;VALUE=DURATION:PT1H
X-Robots-Tag:noindex
X-PUBLISHED-TTL:PT1H
BEGIN:VTIMEZONE
TZID:Europe/Paris
BEGIN:DAYLIGHT
TZOFFSETFROM:+0100
TZOFFSETTO:+0200
TZNAME:CEST
DTSTART:20270328T010000
END:DAYLIGHT
BEGIN:STANDARD
TZOFFSETFROM:+0200
TZOFFSETTO:+0100
TZNAME:CET
DTSTART:20271031T010000
END:STANDARD
BEGIN:DAYLIGHT
TZOFFSETFROM:+0100
TZOFFSETTO:+0200
TZNAME:CEST
DTSTART:20280326T010000
END:DAYLIGHT
BEGIN:STANDARD
TZOFFSETFROM:+0200
TZOFFSETTO:+0100
TZNAME:CET
DTSTART:20281029T010000
END:STANDARD
BEGIN:DAYLIGHT
TZOFFSETFROM:+0100
TZOFFSETTO:+0200
TZNAME:CEST
DTSTART:20290325T010000
END:DAYLIGHT
BEGIN:STANDARD
TZOFFSETFROM:+0200
TZOFFSETTO:+0100
TZNAME:CET
DTSTART:20291028T010000
END:STANDARD
END:VTIMEZONE
BEGIN:VEVENT
DTSTART;TZID=Europe/Paris:20280701T090000
DTEND;TZID=Europe/Paris:20280701T100000
DTSTAMP:20260419T232131
CREATED:20251120T145139Z
LAST-MODIFIED:20260217T145317Z
UID:10005273-1846054800-1846058400@www.petitesgraines31.fr
SUMMARY:Conversation en anglais
DESCRIPTION:Adulte \nCours de d’anglais\nAnimé par Gaëlle Darricau\, enseignante en langues étrangères. \nCet atelier s’adresse aux personnes qui ont besoin de pratiquer l’anglais à l’oral car elles doivent le parler dans le cadre de leur travail\, mais également aux personnes qui préparent un voyage à l’étranger par exemple. \nles samedis \n9h-10h \n10€ \nInscription auprès de Darricau Gaëlle – 06 78 21 50 93 \n  \n  \n  \n 
URL:http://www.petitesgraines31.fr/agenda/conversation-en-anglais/2028-07-01/
CATEGORIES:Bien vivre ensemble,Culture
ATTACH;FMTTYPE=image/jpeg:http://www.petitesgraines31.fr/wp-content/uploads/2025/11/7571012-scaled-e1763650288260.jpg
END:VEVENT
BEGIN:VEVENT
DTSTART;TZID=Europe/Paris:20280701T103000
DTEND;TZID=Europe/Paris:20280701T114500
DTSTAMP:20260419T232131
CREATED:20250506T130701Z
LAST-MODIFIED:20251211T144843Z
UID:10001029-1846060200-1846064700@www.petitesgraines31.fr
SUMMARY:FLE - Français Langues Etrangères
DESCRIPTION:Tout public allophone \nCours de Français Langues Étrangères\nAnimé par Gaëlle\, enseignante en FLE. \nPour apprendre ou perfectionner son français. \nles samedis matin \n10h30-11h45 \n7€ \nJe m’inscris \n  \n  \n  \n 
URL:http://www.petitesgraines31.fr/agenda/fle-francais-langues-etrangeres-8/2028-07-01/
CATEGORIES:Bien vivre ensemble,Culture
ATTACH;FMTTYPE=image/jpeg:http://www.petitesgraines31.fr/wp-content/uploads/2025/03/FLE.jpg
END:VEVENT
BEGIN:VEVENT
DTSTART;TZID=Europe/Paris:20280708T090000
DTEND;TZID=Europe/Paris:20280708T100000
DTSTAMP:20260419T232131
CREATED:20251120T145139Z
LAST-MODIFIED:20260217T145317Z
UID:10005274-1846659600-1846663200@www.petitesgraines31.fr
SUMMARY:Conversation en anglais
DESCRIPTION:Adulte \nCours de d’anglais\nAnimé par Gaëlle Darricau\, enseignante en langues étrangères. \nCet atelier s’adresse aux personnes qui ont besoin de pratiquer l’anglais à l’oral car elles doivent le parler dans le cadre de leur travail\, mais également aux personnes qui préparent un voyage à l’étranger par exemple. \nles samedis \n9h-10h \n10€ \nInscription auprès de Darricau Gaëlle – 06 78 21 50 93 \n  \n  \n  \n 
URL:http://www.petitesgraines31.fr/agenda/conversation-en-anglais/2028-07-08/
CATEGORIES:Bien vivre ensemble,Culture
ATTACH;FMTTYPE=image/jpeg:http://www.petitesgraines31.fr/wp-content/uploads/2025/11/7571012-scaled-e1763650288260.jpg
END:VEVENT
BEGIN:VEVENT
DTSTART;TZID=Europe/Paris:20280708T103000
DTEND;TZID=Europe/Paris:20280708T114500
DTSTAMP:20260419T232131
CREATED:20250506T130701Z
LAST-MODIFIED:20251211T144843Z
UID:10001030-1846665000-1846669500@www.petitesgraines31.fr
SUMMARY:FLE - Français Langues Etrangères
DESCRIPTION:Tout public allophone \nCours de Français Langues Étrangères\nAnimé par Gaëlle\, enseignante en FLE. \nPour apprendre ou perfectionner son français. \nles samedis matin \n10h30-11h45 \n7€ \nJe m’inscris \n  \n  \n  \n 
URL:http://www.petitesgraines31.fr/agenda/fle-francais-langues-etrangeres-8/2028-07-08/
CATEGORIES:Bien vivre ensemble,Culture
ATTACH;FMTTYPE=image/jpeg:http://www.petitesgraines31.fr/wp-content/uploads/2025/03/FLE.jpg
END:VEVENT
BEGIN:VEVENT
DTSTART;TZID=Europe/Paris:20280714T140000
DTEND;TZID=Europe/Paris:20280714T160000
DTSTAMP:20260419T232131
CREATED:20250627T131056Z
LAST-MODIFIED:20251112T141913Z
UID:10001221-1847196000-1847203200@www.petitesgraines31.fr
SUMMARY:Tricot papote
DESCRIPTION:Tout public  \nUn moment convivial pour tricoter en papotant\, ou pour apprendre à tricoter\, animé par Anne. \nAtelier tous niveaux\, débutant·es bien venu·es ! \nchaque deuxième vendredi du mois\, hors vacances scolaires. \n14h-16h \ngratuit \nSur inscription \n  \n 
URL:http://www.petitesgraines31.fr/agenda/tricot-papote-10/2028-07-14/
CATEGORIES:Bien vivre ensemble,Culture
ATTACH;FMTTYPE=image/jpeg:http://www.petitesgraines31.fr/wp-content/uploads/2024/05/tricot.jpeg
END:VEVENT
BEGIN:VEVENT
DTSTART;TZID=Europe/Paris:20280715T090000
DTEND;TZID=Europe/Paris:20280715T100000
DTSTAMP:20260419T232131
CREATED:20251120T145139Z
LAST-MODIFIED:20260217T145317Z
UID:10005275-1847264400-1847268000@www.petitesgraines31.fr
SUMMARY:Conversation en anglais
DESCRIPTION:Adulte \nCours de d’anglais\nAnimé par Gaëlle Darricau\, enseignante en langues étrangères. \nCet atelier s’adresse aux personnes qui ont besoin de pratiquer l’anglais à l’oral car elles doivent le parler dans le cadre de leur travail\, mais également aux personnes qui préparent un voyage à l’étranger par exemple. \nles samedis \n9h-10h \n10€ \nInscription auprès de Darricau Gaëlle – 06 78 21 50 93 \n  \n  \n  \n 
URL:http://www.petitesgraines31.fr/agenda/conversation-en-anglais/2028-07-15/
CATEGORIES:Bien vivre ensemble,Culture
ATTACH;FMTTYPE=image/jpeg:http://www.petitesgraines31.fr/wp-content/uploads/2025/11/7571012-scaled-e1763650288260.jpg
END:VEVENT
BEGIN:VEVENT
DTSTART;TZID=Europe/Paris:20280715T103000
DTEND;TZID=Europe/Paris:20280715T114500
DTSTAMP:20260419T232131
CREATED:20250506T130701Z
LAST-MODIFIED:20251211T144843Z
UID:10001031-1847269800-1847274300@www.petitesgraines31.fr
SUMMARY:FLE - Français Langues Etrangères
DESCRIPTION:Tout public allophone \nCours de Français Langues Étrangères\nAnimé par Gaëlle\, enseignante en FLE. \nPour apprendre ou perfectionner son français. \nles samedis matin \n10h30-11h45 \n7€ \nJe m’inscris \n  \n  \n  \n 
URL:http://www.petitesgraines31.fr/agenda/fle-francais-langues-etrangeres-8/2028-07-15/
CATEGORIES:Bien vivre ensemble,Culture
ATTACH;FMTTYPE=image/jpeg:http://www.petitesgraines31.fr/wp-content/uploads/2025/03/FLE.jpg
END:VEVENT
BEGIN:VEVENT
DTSTART;TZID=Europe/Paris:20280722T090000
DTEND;TZID=Europe/Paris:20280722T100000
DTSTAMP:20260419T232131
CREATED:20251120T145139Z
LAST-MODIFIED:20260217T145317Z
UID:10005276-1847869200-1847872800@www.petitesgraines31.fr
SUMMARY:Conversation en anglais
DESCRIPTION:Adulte \nCours de d’anglais\nAnimé par Gaëlle Darricau\, enseignante en langues étrangères. \nCet atelier s’adresse aux personnes qui ont besoin de pratiquer l’anglais à l’oral car elles doivent le parler dans le cadre de leur travail\, mais également aux personnes qui préparent un voyage à l’étranger par exemple. \nles samedis \n9h-10h \n10€ \nInscription auprès de Darricau Gaëlle – 06 78 21 50 93 \n  \n  \n  \n 
URL:http://www.petitesgraines31.fr/agenda/conversation-en-anglais/2028-07-22/
CATEGORIES:Bien vivre ensemble,Culture
ATTACH;FMTTYPE=image/jpeg:http://www.petitesgraines31.fr/wp-content/uploads/2025/11/7571012-scaled-e1763650288260.jpg
END:VEVENT
BEGIN:VEVENT
DTSTART;TZID=Europe/Paris:20280722T103000
DTEND;TZID=Europe/Paris:20280722T114500
DTSTAMP:20260419T232131
CREATED:20250506T130701Z
LAST-MODIFIED:20251211T144843Z
UID:10001032-1847874600-1847879100@www.petitesgraines31.fr
SUMMARY:FLE - Français Langues Etrangères
DESCRIPTION:Tout public allophone \nCours de Français Langues Étrangères\nAnimé par Gaëlle\, enseignante en FLE. \nPour apprendre ou perfectionner son français. \nles samedis matin \n10h30-11h45 \n7€ \nJe m’inscris \n  \n  \n  \n 
URL:http://www.petitesgraines31.fr/agenda/fle-francais-langues-etrangeres-8/2028-07-22/
CATEGORIES:Bien vivre ensemble,Culture
ATTACH;FMTTYPE=image/jpeg:http://www.petitesgraines31.fr/wp-content/uploads/2025/03/FLE.jpg
END:VEVENT
BEGIN:VEVENT
DTSTART;TZID=Europe/Paris:20280729T090000
DTEND;TZID=Europe/Paris:20280729T100000
DTSTAMP:20260419T232131
CREATED:20251120T145139Z
LAST-MODIFIED:20260217T145317Z
UID:10005277-1848474000-1848477600@www.petitesgraines31.fr
SUMMARY:Conversation en anglais
DESCRIPTION:Adulte \nCours de d’anglais\nAnimé par Gaëlle Darricau\, enseignante en langues étrangères. \nCet atelier s’adresse aux personnes qui ont besoin de pratiquer l’anglais à l’oral car elles doivent le parler dans le cadre de leur travail\, mais également aux personnes qui préparent un voyage à l’étranger par exemple. \nles samedis \n9h-10h \n10€ \nInscription auprès de Darricau Gaëlle – 06 78 21 50 93 \n  \n  \n  \n 
URL:http://www.petitesgraines31.fr/agenda/conversation-en-anglais/2028-07-29/
CATEGORIES:Bien vivre ensemble,Culture
ATTACH;FMTTYPE=image/jpeg:http://www.petitesgraines31.fr/wp-content/uploads/2025/11/7571012-scaled-e1763650288260.jpg
END:VEVENT
BEGIN:VEVENT
DTSTART;TZID=Europe/Paris:20280729T103000
DTEND;TZID=Europe/Paris:20280729T114500
DTSTAMP:20260419T232131
CREATED:20250506T130701Z
LAST-MODIFIED:20251211T144843Z
UID:10001033-1848479400-1848483900@www.petitesgraines31.fr
SUMMARY:FLE - Français Langues Etrangères
DESCRIPTION:Tout public allophone \nCours de Français Langues Étrangères\nAnimé par Gaëlle\, enseignante en FLE. \nPour apprendre ou perfectionner son français. \nles samedis matin \n10h30-11h45 \n7€ \nJe m’inscris \n  \n  \n  \n 
URL:http://www.petitesgraines31.fr/agenda/fle-francais-langues-etrangeres-8/2028-07-29/
CATEGORIES:Bien vivre ensemble,Culture
ATTACH;FMTTYPE=image/jpeg:http://www.petitesgraines31.fr/wp-content/uploads/2025/03/FLE.jpg
END:VEVENT
END:VCALENDAR