BEGIN:VCALENDAR
VERSION:2.0
PRODID:-//Association des Petites Graines Lauragaises à Caraman - ECPv6.15.20//NONSGML v1.0//EN
CALSCALE:GREGORIAN
METHOD:PUBLISH
X-ORIGINAL-URL:http://www.petitesgraines31.fr
X-WR-CALDESC:Évènements pour Association des Petites Graines Lauragaises à Caraman
REFRESH-INTERVAL;VALUE=DURATION:PT1H
X-Robots-Tag:noindex
X-PUBLISHED-TTL:PT1H
BEGIN:VTIMEZONE
TZID:Europe/Paris
BEGIN:DAYLIGHT
TZOFFSETFROM:+0100
TZOFFSETTO:+0200
TZNAME:CEST
DTSTART:20290325T010000
END:DAYLIGHT
BEGIN:STANDARD
TZOFFSETFROM:+0200
TZOFFSETTO:+0100
TZNAME:CET
DTSTART:20291028T010000
END:STANDARD
BEGIN:DAYLIGHT
TZOFFSETFROM:+0100
TZOFFSETTO:+0200
TZNAME:CEST
DTSTART:20300331T010000
END:DAYLIGHT
BEGIN:STANDARD
TZOFFSETFROM:+0200
TZOFFSETTO:+0100
TZNAME:CET
DTSTART:20301027T010000
END:STANDARD
BEGIN:DAYLIGHT
TZOFFSETFROM:+0100
TZOFFSETTO:+0200
TZNAME:CEST
DTSTART:20310330T010000
END:DAYLIGHT
BEGIN:STANDARD
TZOFFSETFROM:+0200
TZOFFSETTO:+0100
TZNAME:CET
DTSTART:20311026T010000
END:STANDARD
END:VTIMEZONE
BEGIN:VEVENT
DTSTART;TZID=Europe/Paris:20300601T090000
DTEND;TZID=Europe/Paris:20300601T100000
DTSTAMP:20260421T061648
CREATED:20251120T145139Z
LAST-MODIFIED:20260217T145317Z
UID:10005373-1906534800-1906538400@www.petitesgraines31.fr
SUMMARY:Conversation en anglais
DESCRIPTION:Adulte \nCours de d’anglais\nAnimé par Gaëlle Darricau\, enseignante en langues étrangères. \nCet atelier s’adresse aux personnes qui ont besoin de pratiquer l’anglais à l’oral car elles doivent le parler dans le cadre de leur travail\, mais également aux personnes qui préparent un voyage à l’étranger par exemple. \nles samedis \n9h-10h \n10€ \nInscription auprès de Darricau Gaëlle – 06 78 21 50 93 \n  \n  \n  \n 
URL:http://www.petitesgraines31.fr/agenda/conversation-en-anglais/2030-06-01/
CATEGORIES:Bien vivre ensemble,Culture
ATTACH;FMTTYPE=image/jpeg:http://www.petitesgraines31.fr/wp-content/uploads/2025/11/7571012-scaled-e1763650288260.jpg
END:VEVENT
BEGIN:VEVENT
DTSTART;TZID=Europe/Paris:20300601T103000
DTEND;TZID=Europe/Paris:20300601T114500
DTSTAMP:20260421T061648
CREATED:20250506T130701Z
LAST-MODIFIED:20251211T144843Z
UID:10001129-1906540200-1906544700@www.petitesgraines31.fr
SUMMARY:FLE - Français Langues Etrangères
DESCRIPTION:Tout public allophone \nCours de Français Langues Étrangères\nAnimé par Gaëlle\, enseignante en FLE. \nPour apprendre ou perfectionner son français. \nles samedis matin \n10h30-11h45 \n7€ \nJe m’inscris \n  \n  \n  \n 
URL:http://www.petitesgraines31.fr/agenda/fle-francais-langues-etrangeres-8/2030-06-01/
CATEGORIES:Bien vivre ensemble,Culture
ATTACH;FMTTYPE=image/jpeg:http://www.petitesgraines31.fr/wp-content/uploads/2025/03/FLE.jpg
END:VEVENT
BEGIN:VEVENT
DTSTART;TZID=Europe/Paris:20300608T090000
DTEND;TZID=Europe/Paris:20300608T100000
DTSTAMP:20260421T061648
CREATED:20251120T145139Z
LAST-MODIFIED:20260217T145317Z
UID:10005374-1907139600-1907143200@www.petitesgraines31.fr
SUMMARY:Conversation en anglais
DESCRIPTION:Adulte \nCours de d’anglais\nAnimé par Gaëlle Darricau\, enseignante en langues étrangères. \nCet atelier s’adresse aux personnes qui ont besoin de pratiquer l’anglais à l’oral car elles doivent le parler dans le cadre de leur travail\, mais également aux personnes qui préparent un voyage à l’étranger par exemple. \nles samedis \n9h-10h \n10€ \nInscription auprès de Darricau Gaëlle – 06 78 21 50 93 \n  \n  \n  \n 
URL:http://www.petitesgraines31.fr/agenda/conversation-en-anglais/2030-06-08/
CATEGORIES:Bien vivre ensemble,Culture
ATTACH;FMTTYPE=image/jpeg:http://www.petitesgraines31.fr/wp-content/uploads/2025/11/7571012-scaled-e1763650288260.jpg
END:VEVENT
BEGIN:VEVENT
DTSTART;TZID=Europe/Paris:20300608T103000
DTEND;TZID=Europe/Paris:20300608T114500
DTSTAMP:20260421T061648
CREATED:20250506T130701Z
LAST-MODIFIED:20251211T144843Z
UID:10001130-1907145000-1907149500@www.petitesgraines31.fr
SUMMARY:FLE - Français Langues Etrangères
DESCRIPTION:Tout public allophone \nCours de Français Langues Étrangères\nAnimé par Gaëlle\, enseignante en FLE. \nPour apprendre ou perfectionner son français. \nles samedis matin \n10h30-11h45 \n7€ \nJe m’inscris \n  \n  \n  \n 
URL:http://www.petitesgraines31.fr/agenda/fle-francais-langues-etrangeres-8/2030-06-08/
CATEGORIES:Bien vivre ensemble,Culture
ATTACH;FMTTYPE=image/jpeg:http://www.petitesgraines31.fr/wp-content/uploads/2025/03/FLE.jpg
END:VEVENT
BEGIN:VEVENT
DTSTART;TZID=Europe/Paris:20300614T140000
DTEND;TZID=Europe/Paris:20300614T160000
DTSTAMP:20260421T061648
CREATED:20250627T131056Z
LAST-MODIFIED:20251112T141913Z
UID:10001244-1907676000-1907683200@www.petitesgraines31.fr
SUMMARY:Tricot papote
DESCRIPTION:Tout public  \nUn moment convivial pour tricoter en papotant\, ou pour apprendre à tricoter\, animé par Anne. \nAtelier tous niveaux\, débutant·es bien venu·es ! \nchaque deuxième vendredi du mois\, hors vacances scolaires. \n14h-16h \ngratuit \nSur inscription \n  \n 
URL:http://www.petitesgraines31.fr/agenda/tricot-papote-10/2030-06-14/
CATEGORIES:Bien vivre ensemble,Culture
ATTACH;FMTTYPE=image/jpeg:http://www.petitesgraines31.fr/wp-content/uploads/2024/05/tricot.jpeg
END:VEVENT
BEGIN:VEVENT
DTSTART;TZID=Europe/Paris:20300615T090000
DTEND;TZID=Europe/Paris:20300615T100000
DTSTAMP:20260421T061648
CREATED:20251120T145139Z
LAST-MODIFIED:20260217T145317Z
UID:10005375-1907744400-1907748000@www.petitesgraines31.fr
SUMMARY:Conversation en anglais
DESCRIPTION:Adulte \nCours de d’anglais\nAnimé par Gaëlle Darricau\, enseignante en langues étrangères. \nCet atelier s’adresse aux personnes qui ont besoin de pratiquer l’anglais à l’oral car elles doivent le parler dans le cadre de leur travail\, mais également aux personnes qui préparent un voyage à l’étranger par exemple. \nles samedis \n9h-10h \n10€ \nInscription auprès de Darricau Gaëlle – 06 78 21 50 93 \n  \n  \n  \n 
URL:http://www.petitesgraines31.fr/agenda/conversation-en-anglais/2030-06-15/
CATEGORIES:Bien vivre ensemble,Culture
ATTACH;FMTTYPE=image/jpeg:http://www.petitesgraines31.fr/wp-content/uploads/2025/11/7571012-scaled-e1763650288260.jpg
END:VEVENT
BEGIN:VEVENT
DTSTART;TZID=Europe/Paris:20300615T103000
DTEND;TZID=Europe/Paris:20300615T114500
DTSTAMP:20260421T061648
CREATED:20250506T130701Z
LAST-MODIFIED:20251211T144843Z
UID:10004408-1907749800-1907754300@www.petitesgraines31.fr
SUMMARY:FLE - Français Langues Etrangères
DESCRIPTION:Tout public allophone \nCours de Français Langues Étrangères\nAnimé par Gaëlle\, enseignante en FLE. \nPour apprendre ou perfectionner son français. \nles samedis matin \n10h30-11h45 \n7€ \nJe m’inscris \n  \n  \n  \n 
URL:http://www.petitesgraines31.fr/agenda/fle-francais-langues-etrangeres-8/2030-06-15/
CATEGORIES:Bien vivre ensemble,Culture
ATTACH;FMTTYPE=image/jpeg:http://www.petitesgraines31.fr/wp-content/uploads/2025/03/FLE.jpg
END:VEVENT
BEGIN:VEVENT
DTSTART;TZID=Europe/Paris:20300622T090000
DTEND;TZID=Europe/Paris:20300622T100000
DTSTAMP:20260421T061648
CREATED:20251120T145139Z
LAST-MODIFIED:20260217T145317Z
UID:10005376-1908349200-1908352800@www.petitesgraines31.fr
SUMMARY:Conversation en anglais
DESCRIPTION:Adulte \nCours de d’anglais\nAnimé par Gaëlle Darricau\, enseignante en langues étrangères. \nCet atelier s’adresse aux personnes qui ont besoin de pratiquer l’anglais à l’oral car elles doivent le parler dans le cadre de leur travail\, mais également aux personnes qui préparent un voyage à l’étranger par exemple. \nles samedis \n9h-10h \n10€ \nInscription auprès de Darricau Gaëlle – 06 78 21 50 93 \n  \n  \n  \n 
URL:http://www.petitesgraines31.fr/agenda/conversation-en-anglais/2030-06-22/
CATEGORIES:Bien vivre ensemble,Culture
ATTACH;FMTTYPE=image/jpeg:http://www.petitesgraines31.fr/wp-content/uploads/2025/11/7571012-scaled-e1763650288260.jpg
END:VEVENT
BEGIN:VEVENT
DTSTART;TZID=Europe/Paris:20300622T103000
DTEND;TZID=Europe/Paris:20300622T114500
DTSTAMP:20260421T061648
CREATED:20250506T130701Z
LAST-MODIFIED:20251211T144843Z
UID:10004409-1908354600-1908359100@www.petitesgraines31.fr
SUMMARY:FLE - Français Langues Etrangères
DESCRIPTION:Tout public allophone \nCours de Français Langues Étrangères\nAnimé par Gaëlle\, enseignante en FLE. \nPour apprendre ou perfectionner son français. \nles samedis matin \n10h30-11h45 \n7€ \nJe m’inscris \n  \n  \n  \n 
URL:http://www.petitesgraines31.fr/agenda/fle-francais-langues-etrangeres-8/2030-06-22/
CATEGORIES:Bien vivre ensemble,Culture
ATTACH;FMTTYPE=image/jpeg:http://www.petitesgraines31.fr/wp-content/uploads/2025/03/FLE.jpg
END:VEVENT
BEGIN:VEVENT
DTSTART;TZID=Europe/Paris:20300629T090000
DTEND;TZID=Europe/Paris:20300629T100000
DTSTAMP:20260421T061648
CREATED:20251120T145139Z
LAST-MODIFIED:20260217T145317Z
UID:10005377-1908954000-1908957600@www.petitesgraines31.fr
SUMMARY:Conversation en anglais
DESCRIPTION:Adulte \nCours de d’anglais\nAnimé par Gaëlle Darricau\, enseignante en langues étrangères. \nCet atelier s’adresse aux personnes qui ont besoin de pratiquer l’anglais à l’oral car elles doivent le parler dans le cadre de leur travail\, mais également aux personnes qui préparent un voyage à l’étranger par exemple. \nles samedis \n9h-10h \n10€ \nInscription auprès de Darricau Gaëlle – 06 78 21 50 93 \n  \n  \n  \n 
URL:http://www.petitesgraines31.fr/agenda/conversation-en-anglais/2030-06-29/
CATEGORIES:Bien vivre ensemble,Culture
ATTACH;FMTTYPE=image/jpeg:http://www.petitesgraines31.fr/wp-content/uploads/2025/11/7571012-scaled-e1763650288260.jpg
END:VEVENT
BEGIN:VEVENT
DTSTART;TZID=Europe/Paris:20300629T103000
DTEND;TZID=Europe/Paris:20300629T114500
DTSTAMP:20260421T061648
CREATED:20250506T130701Z
LAST-MODIFIED:20251211T144843Z
UID:10004410-1908959400-1908963900@www.petitesgraines31.fr
SUMMARY:FLE - Français Langues Etrangères
DESCRIPTION:Tout public allophone \nCours de Français Langues Étrangères\nAnimé par Gaëlle\, enseignante en FLE. \nPour apprendre ou perfectionner son français. \nles samedis matin \n10h30-11h45 \n7€ \nJe m’inscris \n  \n  \n  \n 
URL:http://www.petitesgraines31.fr/agenda/fle-francais-langues-etrangeres-8/2030-06-29/
CATEGORIES:Bien vivre ensemble,Culture
ATTACH;FMTTYPE=image/jpeg:http://www.petitesgraines31.fr/wp-content/uploads/2025/03/FLE.jpg
END:VEVENT
END:VCALENDAR