BEGIN:VCALENDAR
VERSION:2.0
PRODID:-//Association des Petites Graines Lauragaises à Caraman - ECPv6.15.20//NONSGML v1.0//EN
CALSCALE:GREGORIAN
METHOD:PUBLISH
X-ORIGINAL-URL:http://www.petitesgraines31.fr
X-WR-CALDESC:Évènements pour Association des Petites Graines Lauragaises à Caraman
REFRESH-INTERVAL;VALUE=DURATION:PT1H
X-Robots-Tag:noindex
X-PUBLISHED-TTL:PT1H
BEGIN:VTIMEZONE
TZID:Europe/Paris
BEGIN:DAYLIGHT
TZOFFSETFROM:+0100
TZOFFSETTO:+0200
TZNAME:CEST
DTSTART:20290325T010000
END:DAYLIGHT
BEGIN:STANDARD
TZOFFSETFROM:+0200
TZOFFSETTO:+0100
TZNAME:CET
DTSTART:20291028T010000
END:STANDARD
BEGIN:DAYLIGHT
TZOFFSETFROM:+0100
TZOFFSETTO:+0200
TZNAME:CEST
DTSTART:20300331T010000
END:DAYLIGHT
BEGIN:STANDARD
TZOFFSETFROM:+0200
TZOFFSETTO:+0100
TZNAME:CET
DTSTART:20301027T010000
END:STANDARD
BEGIN:DAYLIGHT
TZOFFSETFROM:+0100
TZOFFSETTO:+0200
TZNAME:CEST
DTSTART:20310330T010000
END:DAYLIGHT
BEGIN:STANDARD
TZOFFSETFROM:+0200
TZOFFSETTO:+0100
TZNAME:CET
DTSTART:20311026T010000
END:STANDARD
END:VTIMEZONE
BEGIN:VEVENT
DTSTART;TZID=Europe/Paris:20301102T090000
DTEND;TZID=Europe/Paris:20301102T100000
DTSTAMP:20260421T124813
CREATED:20251120T145139Z
LAST-MODIFIED:20260217T145317Z
UID:10005395-1919840400-1919844000@www.petitesgraines31.fr
SUMMARY:Conversation en anglais
DESCRIPTION:Adulte \nCours de d’anglais\nAnimé par Gaëlle Darricau\, enseignante en langues étrangères. \nCet atelier s’adresse aux personnes qui ont besoin de pratiquer l’anglais à l’oral car elles doivent le parler dans le cadre de leur travail\, mais également aux personnes qui préparent un voyage à l’étranger par exemple. \nles samedis \n9h-10h \n10€ \nInscription auprès de Darricau Gaëlle – 06 78 21 50 93 \n  \n  \n  \n 
URL:http://www.petitesgraines31.fr/agenda/conversation-en-anglais/2030-11-02/
CATEGORIES:Bien vivre ensemble,Culture
ATTACH;FMTTYPE=image/jpeg:http://www.petitesgraines31.fr/wp-content/uploads/2025/11/7571012-scaled-e1763650288260.jpg
END:VEVENT
BEGIN:VEVENT
DTSTART;TZID=Europe/Paris:20301102T103000
DTEND;TZID=Europe/Paris:20301102T114500
DTSTAMP:20260421T124813
CREATED:20250506T130701Z
LAST-MODIFIED:20251211T144843Z
UID:10005426-1919845800-1919850300@www.petitesgraines31.fr
SUMMARY:FLE - Français Langues Etrangères
DESCRIPTION:Tout public allophone \nCours de Français Langues Étrangères\nAnimé par Gaëlle\, enseignante en FLE. \nPour apprendre ou perfectionner son français. \nles samedis matin \n10h30-11h45 \n7€ \nJe m’inscris \n  \n  \n  \n 
URL:http://www.petitesgraines31.fr/agenda/fle-francais-langues-etrangeres-8/2030-11-02/
CATEGORIES:Bien vivre ensemble,Culture
ATTACH;FMTTYPE=image/jpeg:http://www.petitesgraines31.fr/wp-content/uploads/2025/03/FLE.jpg
END:VEVENT
BEGIN:VEVENT
DTSTART;TZID=Europe/Paris:20301108T140000
DTEND;TZID=Europe/Paris:20301108T160000
DTSTAMP:20260421T124813
CREATED:20250627T131056Z
LAST-MODIFIED:20251112T141913Z
UID:10004857-1920376800-1920384000@www.petitesgraines31.fr
SUMMARY:Tricot papote
DESCRIPTION:Tout public  \nUn moment convivial pour tricoter en papotant\, ou pour apprendre à tricoter\, animé par Anne. \nAtelier tous niveaux\, débutant·es bien venu·es ! \nchaque deuxième vendredi du mois\, hors vacances scolaires. \n14h-16h \ngratuit \nSur inscription \n  \n 
URL:http://www.petitesgraines31.fr/agenda/tricot-papote-10/2030-11-08/
CATEGORIES:Bien vivre ensemble,Culture
ATTACH;FMTTYPE=image/jpeg:http://www.petitesgraines31.fr/wp-content/uploads/2024/05/tricot.jpeg
END:VEVENT
BEGIN:VEVENT
DTSTART;TZID=Europe/Paris:20301109T090000
DTEND;TZID=Europe/Paris:20301109T100000
DTSTAMP:20260421T124813
CREATED:20251120T145139Z
LAST-MODIFIED:20260217T145317Z
UID:10005396-1920445200-1920448800@www.petitesgraines31.fr
SUMMARY:Conversation en anglais
DESCRIPTION:Adulte \nCours de d’anglais\nAnimé par Gaëlle Darricau\, enseignante en langues étrangères. \nCet atelier s’adresse aux personnes qui ont besoin de pratiquer l’anglais à l’oral car elles doivent le parler dans le cadre de leur travail\, mais également aux personnes qui préparent un voyage à l’étranger par exemple. \nles samedis \n9h-10h \n10€ \nInscription auprès de Darricau Gaëlle – 06 78 21 50 93 \n  \n  \n  \n 
URL:http://www.petitesgraines31.fr/agenda/conversation-en-anglais/2030-11-09/
CATEGORIES:Bien vivre ensemble,Culture
ATTACH;FMTTYPE=image/jpeg:http://www.petitesgraines31.fr/wp-content/uploads/2025/11/7571012-scaled-e1763650288260.jpg
END:VEVENT
BEGIN:VEVENT
DTSTART;TZID=Europe/Paris:20301109T103000
DTEND;TZID=Europe/Paris:20301109T114500
DTSTAMP:20260421T124813
CREATED:20250506T130701Z
LAST-MODIFIED:20251211T144843Z
UID:10005427-1920450600-1920455100@www.petitesgraines31.fr
SUMMARY:FLE - Français Langues Etrangères
DESCRIPTION:Tout public allophone \nCours de Français Langues Étrangères\nAnimé par Gaëlle\, enseignante en FLE. \nPour apprendre ou perfectionner son français. \nles samedis matin \n10h30-11h45 \n7€ \nJe m’inscris \n  \n  \n  \n 
URL:http://www.petitesgraines31.fr/agenda/fle-francais-langues-etrangeres-8/2030-11-09/
CATEGORIES:Bien vivre ensemble,Culture
ATTACH;FMTTYPE=image/jpeg:http://www.petitesgraines31.fr/wp-content/uploads/2025/03/FLE.jpg
END:VEVENT
BEGIN:VEVENT
DTSTART;TZID=Europe/Paris:20301116T090000
DTEND;TZID=Europe/Paris:20301116T100000
DTSTAMP:20260421T124813
CREATED:20251120T145139Z
LAST-MODIFIED:20260217T145317Z
UID:10005397-1921050000-1921053600@www.petitesgraines31.fr
SUMMARY:Conversation en anglais
DESCRIPTION:Adulte \nCours de d’anglais\nAnimé par Gaëlle Darricau\, enseignante en langues étrangères. \nCet atelier s’adresse aux personnes qui ont besoin de pratiquer l’anglais à l’oral car elles doivent le parler dans le cadre de leur travail\, mais également aux personnes qui préparent un voyage à l’étranger par exemple. \nles samedis \n9h-10h \n10€ \nInscription auprès de Darricau Gaëlle – 06 78 21 50 93 \n  \n  \n  \n 
URL:http://www.petitesgraines31.fr/agenda/conversation-en-anglais/2030-11-16/
CATEGORIES:Bien vivre ensemble,Culture
ATTACH;FMTTYPE=image/jpeg:http://www.petitesgraines31.fr/wp-content/uploads/2025/11/7571012-scaled-e1763650288260.jpg
END:VEVENT
BEGIN:VEVENT
DTSTART;TZID=Europe/Paris:20301116T103000
DTEND;TZID=Europe/Paris:20301116T114500
DTSTAMP:20260421T124813
CREATED:20250506T130701Z
LAST-MODIFIED:20251211T144843Z
UID:10005428-1921055400-1921059900@www.petitesgraines31.fr
SUMMARY:FLE - Français Langues Etrangères
DESCRIPTION:Tout public allophone \nCours de Français Langues Étrangères\nAnimé par Gaëlle\, enseignante en FLE. \nPour apprendre ou perfectionner son français. \nles samedis matin \n10h30-11h45 \n7€ \nJe m’inscris \n  \n  \n  \n 
URL:http://www.petitesgraines31.fr/agenda/fle-francais-langues-etrangeres-8/2030-11-16/
CATEGORIES:Bien vivre ensemble,Culture
ATTACH;FMTTYPE=image/jpeg:http://www.petitesgraines31.fr/wp-content/uploads/2025/03/FLE.jpg
END:VEVENT
BEGIN:VEVENT
DTSTART;TZID=Europe/Paris:20301123T090000
DTEND;TZID=Europe/Paris:20301123T100000
DTSTAMP:20260421T124813
CREATED:20251120T145139Z
LAST-MODIFIED:20260217T145317Z
UID:10005420-1921654800-1921658400@www.petitesgraines31.fr
SUMMARY:Conversation en anglais
DESCRIPTION:Adulte \nCours de d’anglais\nAnimé par Gaëlle Darricau\, enseignante en langues étrangères. \nCet atelier s’adresse aux personnes qui ont besoin de pratiquer l’anglais à l’oral car elles doivent le parler dans le cadre de leur travail\, mais également aux personnes qui préparent un voyage à l’étranger par exemple. \nles samedis \n9h-10h \n10€ \nInscription auprès de Darricau Gaëlle – 06 78 21 50 93 \n  \n  \n  \n 
URL:http://www.petitesgraines31.fr/agenda/conversation-en-anglais/2030-11-23/
CATEGORIES:Bien vivre ensemble,Culture
ATTACH;FMTTYPE=image/jpeg:http://www.petitesgraines31.fr/wp-content/uploads/2025/11/7571012-scaled-e1763650288260.jpg
END:VEVENT
BEGIN:VEVENT
DTSTART;TZID=Europe/Paris:20301123T103000
DTEND;TZID=Europe/Paris:20301123T114500
DTSTAMP:20260421T124813
CREATED:20250506T130701Z
LAST-MODIFIED:20251211T144843Z
UID:10005429-1921660200-1921664700@www.petitesgraines31.fr
SUMMARY:FLE - Français Langues Etrangères
DESCRIPTION:Tout public allophone \nCours de Français Langues Étrangères\nAnimé par Gaëlle\, enseignante en FLE. \nPour apprendre ou perfectionner son français. \nles samedis matin \n10h30-11h45 \n7€ \nJe m’inscris \n  \n  \n  \n 
URL:http://www.petitesgraines31.fr/agenda/fle-francais-langues-etrangeres-8/2030-11-23/
CATEGORIES:Bien vivre ensemble,Culture
ATTACH;FMTTYPE=image/jpeg:http://www.petitesgraines31.fr/wp-content/uploads/2025/03/FLE.jpg
END:VEVENT
BEGIN:VEVENT
DTSTART;TZID=Europe/Paris:20301130T090000
DTEND;TZID=Europe/Paris:20301130T100000
DTSTAMP:20260421T124813
CREATED:20251120T145139Z
LAST-MODIFIED:20260217T145317Z
UID:10005421-1922259600-1922263200@www.petitesgraines31.fr
SUMMARY:Conversation en anglais
DESCRIPTION:Adulte \nCours de d’anglais\nAnimé par Gaëlle Darricau\, enseignante en langues étrangères. \nCet atelier s’adresse aux personnes qui ont besoin de pratiquer l’anglais à l’oral car elles doivent le parler dans le cadre de leur travail\, mais également aux personnes qui préparent un voyage à l’étranger par exemple. \nles samedis \n9h-10h \n10€ \nInscription auprès de Darricau Gaëlle – 06 78 21 50 93 \n  \n  \n  \n 
URL:http://www.petitesgraines31.fr/agenda/conversation-en-anglais/2030-11-30/
CATEGORIES:Bien vivre ensemble,Culture
ATTACH;FMTTYPE=image/jpeg:http://www.petitesgraines31.fr/wp-content/uploads/2025/11/7571012-scaled-e1763650288260.jpg
END:VEVENT
BEGIN:VEVENT
DTSTART;TZID=Europe/Paris:20301130T103000
DTEND;TZID=Europe/Paris:20301130T114500
DTSTAMP:20260421T124813
CREATED:20250506T130701Z
LAST-MODIFIED:20251211T144843Z
UID:10005430-1922265000-1922269500@www.petitesgraines31.fr
SUMMARY:FLE - Français Langues Etrangères
DESCRIPTION:Tout public allophone \nCours de Français Langues Étrangères\nAnimé par Gaëlle\, enseignante en FLE. \nPour apprendre ou perfectionner son français. \nles samedis matin \n10h30-11h45 \n7€ \nJe m’inscris \n  \n  \n  \n 
URL:http://www.petitesgraines31.fr/agenda/fle-francais-langues-etrangeres-8/2030-11-30/
CATEGORIES:Bien vivre ensemble,Culture
ATTACH;FMTTYPE=image/jpeg:http://www.petitesgraines31.fr/wp-content/uploads/2025/03/FLE.jpg
END:VEVENT
END:VCALENDAR